BEGIN:VCALENDAR
VERSION:2.0
PRODID:-//la-ffa.org//NONSGML kigkonsult.se iCalcreator 2.30.10//
CALSCALE:GREGORIAN
METHOD:PUBLISH
UID:a70d412a-7bdf-4641-a0e5-ce6c90388194
X-WR-CALDESC:
X-WR-RELCALID:4c160cf960aeba22cb727beef2d8fb3a
X-WR-TIMEZONE:America/Chicago
BEGIN:VTIMEZONE
TZID:America/Chicago
BEGIN:STANDARD
TZNAME:CST
DTSTART:20251102T020000
TZOFFSETFROM:-0500
TZOFFSETTO:-0600
RDATE:20261101T020000
END:STANDARD
BEGIN:DAYLIGHT
TZNAME:CDT
DTSTART:20250309T020000
TZOFFSETFROM:-0600
TZOFFSETTO:-0500
RDATE:20260308T020000
RDATE:20270314T020000
END:DAYLIGHT
END:VTIMEZONE
BEGIN:VEVENT
UID:899b9812-1579-48e6-8303-a53531f1f389
DTSTAMP:20260421T004709Z
DESCRIPTION:
DTSTART;TZID=America/Chicago:20260226T050000
DTEND;TZID=America/Chicago:20260226T050001
LOCATION:
SUMMARY:District 11 Mechanics CDEs
END:VEVENT
END:VCALENDAR
