BEGIN:VCALENDAR
VERSION:2.0
PRODID:-//la-ffa.org//NONSGML kigkonsult.se iCalcreator 2.30.10//
CALSCALE:GREGORIAN
METHOD:PUBLISH
UID:4a28e223-f20f-45d4-9dfb-ebdb6ee2bb90
X-WR-CALDESC:
X-WR-RELCALID:d2ae9a9210d9572047f7e9ef39f4d3c5
X-WR-TIMEZONE:America/Chicago
BEGIN:VTIMEZONE
TZID:America/Chicago
BEGIN:STANDARD
TZNAME:CST
DTSTART:20251102T020000
TZOFFSETFROM:-0500
TZOFFSETTO:-0600
RDATE:20261101T020000
END:STANDARD
BEGIN:DAYLIGHT
TZNAME:CDT
DTSTART:20250309T020000
TZOFFSETFROM:-0600
TZOFFSETTO:-0500
RDATE:20260308T020000
RDATE:20270314T020000
END:DAYLIGHT
END:VTIMEZONE
BEGIN:VEVENT
UID:ed6a1e59-c48c-457a-a0f5-923f5d5d11b9
DTSTAMP:20260421T004650Z
DESCRIPTION:
DTSTART;TZID=America/Chicago:20260227T050000
DTEND;TZID=America/Chicago:20260227T050001
LOCATION:
SUMMARY:District 1 Mechanics CDEs
END:VEVENT
END:VCALENDAR
