BEGIN:VCALENDAR
VERSION:2.0
PRODID:-//la-ffa.org//NONSGML kigkonsult.se iCalcreator 2.30.10//
CALSCALE:GREGORIAN
METHOD:PUBLISH
UID:5b498129-4e98-4780-803f-95aa83c83097
X-WR-CALDESC:
X-WR-RELCALID:63b074bd28d43848f5ba9e28b627c828
X-WR-TIMEZONE:America/Chicago
BEGIN:VTIMEZONE
TZID:America/Chicago
BEGIN:STANDARD
TZNAME:CST
DTSTART:20251102T020000
TZOFFSETFROM:-0500
TZOFFSETTO:-0600
RDATE:20261101T020000
END:STANDARD
BEGIN:DAYLIGHT
TZNAME:CDT
DTSTART:20250309T020000
TZOFFSETFROM:-0600
TZOFFSETTO:-0500
RDATE:20260308T020000
RDATE:20270314T020000
END:DAYLIGHT
END:VTIMEZONE
BEGIN:VEVENT
UID:62ea7ad0-05fb-48d8-8eff-c00d1d9d111c
DTSTAMP:20260421T004434Z
DESCRIPTION:
DTSTART;TZID=America/Chicago:20260227T050000
DTEND;TZID=America/Chicago:20260227T050001
LOCATION:500 HIGH SCHOOL DRIVE\, Florien\, LA 71429 US
SUMMARY:Judging on the Bend
END:VEVENT
END:VCALENDAR
