BEGIN:VCALENDAR
VERSION:2.0
PRODID:-//la-ffa.org//NONSGML kigkonsult.se iCalcreator 2.30.10//
CALSCALE:GREGORIAN
METHOD:PUBLISH
UID:5142353f-c903-4b90-9335-b2addf88cbaa
X-WR-CALDESC:
X-WR-RELCALID:97c3afa17bbdf677880a4849519cee53
X-WR-TIMEZONE:America/Chicago
BEGIN:VTIMEZONE
TZID:America/Chicago
BEGIN:STANDARD
TZNAME:CST
DTSTART:20251102T020000
TZOFFSETFROM:-0500
TZOFFSETTO:-0600
RDATE:20261101T020000
END:STANDARD
BEGIN:DAYLIGHT
TZNAME:CDT
DTSTART:20250309T020000
TZOFFSETFROM:-0600
TZOFFSETTO:-0500
RDATE:20260308T020000
RDATE:20270314T020000
END:DAYLIGHT
END:VTIMEZONE
BEGIN:VEVENT
UID:2b5e3c0d-7efb-4f5c-b9e6-dfd1024a869a
DTSTAMP:20260420T231420Z
DESCRIPTION:
DTSTART;TZID=America/Chicago:20260304T050000
DTEND;TZID=America/Chicago:20260304T050001
LOCATION:
SUMMARY:District 2 Mechanics CDEs
END:VEVENT
END:VCALENDAR
