BEGIN:VCALENDAR
VERSION:2.0
PRODID:-//la-ffa.org//NONSGML kigkonsult.se iCalcreator 2.30.10//
CALSCALE:GREGORIAN
METHOD:PUBLISH
UID:ce1b286c-b170-4788-a1d9-d047cdd25280
X-WR-CALDESC:This year\, McNeese will be using JudgingCard for registration
 . All teams must register using JudgingCard to participate in this Invitat
 ional.
X-WR-RELCALID:5901c358f76b461f0596c07c9a74bfdb
X-WR-TIMEZONE:America/Chicago
BEGIN:VTIMEZONE
TZID:America/Chicago
BEGIN:STANDARD
TZNAME:CST
DTSTART:20251102T020000
TZOFFSETFROM:-0500
TZOFFSETTO:-0600
RDATE:20261101T020000
END:STANDARD
BEGIN:DAYLIGHT
TZNAME:CDT
DTSTART:20250309T020000
TZOFFSETFROM:-0600
TZOFFSETTO:-0500
RDATE:20260308T020000
RDATE:20270314T020000
END:DAYLIGHT
END:VTIMEZONE
BEGIN:VEVENT
UID:bed06391-02da-4d0b-9b63-098b97cfe1b2
DTSTAMP:20260420T231349Z
DESCRIPTION:This year\, McNeese will be using JudgingCard for registration.
  All teams must register using JudgingCard to participate in this Invitati
 onal.
DTSTART;TZID=America/Chicago:20260304T050000
DTEND;TZID=America/Chicago:20260304T050001
LOCATION:2912 McNeese Farm Rd. \, Lake Charles\, AL 70607 US
SUMMARY:McNeese Invitational
END:VEVENT
END:VCALENDAR
