BEGIN:VCALENDAR
VERSION:2.0
PRODID:-//la-ffa.org//NONSGML kigkonsult.se iCalcreator 2.30.10//
CALSCALE:GREGORIAN
METHOD:PUBLISH
UID:643b4be4-f58f-4dfd-937f-8d26419ff561
X-WR-CALDESC:For State Officers only.
X-WR-RELCALID:11c326bd94ee42266a03b90427e042e5
X-WR-TIMEZONE:America/Chicago
BEGIN:VTIMEZONE
TZID:America/Chicago
BEGIN:STANDARD
TZNAME:CST
DTSTART:20251102T020000
TZOFFSETFROM:-0500
TZOFFSETTO:-0600
RDATE:20261101T020000
END:STANDARD
BEGIN:DAYLIGHT
TZNAME:CDT
DTSTART:20250309T020000
TZOFFSETFROM:-0600
TZOFFSETTO:-0500
RDATE:20260308T020000
RDATE:20270314T020000
END:DAYLIGHT
END:VTIMEZONE
BEGIN:VEVENT
UID:ddd687b7-ac3e-4279-94e5-d7e18b5e140d
DTSTAMP:20260420T231657Z
DESCRIPTION:For State Officers only.
DTSTART;TZID=America/Chicago:20260305T050000
DTEND;TZID=America/Chicago:20260305T050001
LOCATION:
SUMMARY:State Leadership Delegates Conference (Prep Day)
END:VEVENT
END:VCALENDAR
