BEGIN:VCALENDAR
VERSION:2.0
PRODID:-//la-ffa.org//NONSGML kigkonsult.se iCalcreator 2.30.10//
CALSCALE:GREGORIAN
METHOD:PUBLISH
UID:3d4bc6ca-2d5b-4127-9a10-29f486286ef6
X-WR-CALDESC:For Area Officers and Advisors only
X-WR-RELCALID:63dce05580f5dfe5b90201be8ec79200
X-WR-TIMEZONE:America/Chicago
BEGIN:VTIMEZONE
TZID:America/Chicago
BEGIN:STANDARD
TZNAME:CST
DTSTART:20251102T020000
TZOFFSETFROM:-0500
TZOFFSETTO:-0600
RDATE:20261101T020000
END:STANDARD
BEGIN:DAYLIGHT
TZNAME:CDT
DTSTART:20250309T020000
TZOFFSETFROM:-0600
TZOFFSETTO:-0500
RDATE:20260308T020000
RDATE:20270314T020000
END:DAYLIGHT
END:VTIMEZONE
BEGIN:VEVENT
UID:e314670e-6245-443f-ba09-97a780d8d65d
DTSTAMP:20260420T230900Z
DESCRIPTION:For Area Officers and Advisors only
DTSTART;TZID=America/Chicago:20260306T050000
DTEND;TZID=America/Chicago:20260307T050001
LOCATION:
SUMMARY:State Leadership Delegates Conference
END:VEVENT
END:VCALENDAR
