BEGIN:VCALENDAR
VERSION:2.0
PRODID:-//la-ffa.org//NONSGML kigkonsult.se iCalcreator 2.30.10//
CALSCALE:GREGORIAN
METHOD:PUBLISH
UID:0f427e6e-47d8-4abc-a318-6a3e96675b42
X-WR-CALDESC:Northwestern State University\nCheck-in begins at 8:00am\nEven
 t begins at 9:00am\n\nRegistration can be found on Judging Card
X-WR-RELCALID:28fa546fda2313c2a0fc9ed17193051c
X-WR-TIMEZONE:America/Chicago
BEGIN:VTIMEZONE
TZID:America/Chicago
BEGIN:STANDARD
TZNAME:CST
DTSTART:20251102T020000
TZOFFSETFROM:-0500
TZOFFSETTO:-0600
RDATE:20261101T020000
END:STANDARD
BEGIN:DAYLIGHT
TZNAME:CDT
DTSTART:20260308T020000
TZOFFSETFROM:-0600
TZOFFSETTO:-0500
RDATE:20270314T020000
END:DAYLIGHT
END:VTIMEZONE
BEGIN:VEVENT
UID:75e01534-036e-4acc-a389-de1e7d62f35b
DTSTAMP:20260420T231258Z
DESCRIPTION:Northwestern State University\nCheck-in begins at 8:00am\nEvent
  begins at 9:00am\n\nRegistration can be found on Judging Card
DTSTART;TZID=America/Chicago:20260310T080000
DTEND;TZID=America/Chicago:20260310T150000
LOCATION:220 S Jefferson St.\, Natchitoches \, LA 71457 US
SUMMARY:Area II Spring CDEs
END:VEVENT
END:VCALENDAR
