BEGIN:VCALENDAR
VERSION:2.0
PRODID:-//la-ffa.org//NONSGML kigkonsult.se iCalcreator 2.30.10//
CALSCALE:GREGORIAN
METHOD:PUBLISH
UID:004e9d86-2ab5-4577-b76e-b14512627e1f
X-WR-CALDESC:
X-WR-RELCALID:b469e55d97c2b2712920eb8b467919e6
X-WR-TIMEZONE:America/Chicago
BEGIN:VTIMEZONE
TZID:America/Chicago
BEGIN:STANDARD
TZNAME:CST
DTSTART:20251102T020000
TZOFFSETFROM:-0500
TZOFFSETTO:-0600
RDATE:20261101T020000
END:STANDARD
BEGIN:DAYLIGHT
TZNAME:CDT
DTSTART:20260308T020000
TZOFFSETFROM:-0600
TZOFFSETTO:-0500
RDATE:20270314T020000
END:DAYLIGHT
END:VTIMEZONE
BEGIN:VEVENT
UID:dda995e3-7455-4903-81b9-f2b52433840e
DTSTAMP:20260420T231557Z
DESCRIPTION:
DTSTART;TZID=America/Chicago:20260310T050000
DTEND;TZID=America/Chicago:20260310T050001
LOCATION:
SUMMARY:Area III Small Engines and Welding CDEs
END:VEVENT
END:VCALENDAR
