BEGIN:VCALENDAR
VERSION:2.0
PRODID:-//la-ffa.org//NONSGML kigkonsult.se iCalcreator 2.30.10//
CALSCALE:GREGORIAN
METHOD:PUBLISH
UID:960cedb5-c600-4922-90c6-1345a1ec2518
X-WR-CALDESC:Southern AgCenter Livestock Arena\nCheck-in begins at 8:00am\n
 Event begins at 9:00am\n\nRegistration can be found on Judging Card\n\nThe
  Area IV small engines contest will take place Wednesday\, March 11th at t
 he Southern Livestock Arena in Baton Rouge. Registration will start at 8:0
 0 am and the contest will begin at 9:00 am. THERE WERE SOME MAJOR CHANGES 
 TO THE CONTEST THIS YEAR SO PLEASE MAKE YOURSELVES FAMILIAR WITH THEM.  A 
 coin toss will determine which team members compete in assembly and which 
 compete in troubleshooting. The Parts ID portion of the contest will be ut
 ilizing the parts manual from the 950 engines (new engines). Every competi
 tor should bring a copy of this parts manual with them to the contest. Als
 o each competitor should have a parts manual for their specific engine. Th
 is manual will be used for trouble shooting and if it is decided that the 
 assembly portion of the contest will have missing parts. The parts manuals
  can be found on the Louisiana FFA website under the small engines section
  of the CDE/LDE portion of the website. Also please bring sharpened pencil
 s for the test and parts ID portions of the contest. Team members should b
 e familiar with all rules concerning the contest\, especially the ones con
 cerning safety. Qualifying teams should have their troubleshooting engines
  either shipped or brought to me no later than Thursday March 5th in order
  to have sufficient time to bug the engines.  Motors should be free of all
  oil and gas and have the school name and team name on the box as well as 
 on the engine itself (Ex: Walker High/ Blue Team) The motors can be shippe
 d or delivered by hand to the following address.\n\nLouisiana School for t
 he Agricultural Sciences\nAttn: Ward Bordelon\n5303 Hwy. 115\nBunkie\, LA 
  71322\n
X-WR-RELCALID:75ab1074ed0a91f162803bc699ab7208
X-WR-TIMEZONE:America/Chicago
BEGIN:VTIMEZONE
TZID:America/Chicago
BEGIN:STANDARD
TZNAME:CST
DTSTART:20251102T020000
TZOFFSETFROM:-0500
TZOFFSETTO:-0600
RDATE:20261101T020000
END:STANDARD
BEGIN:DAYLIGHT
TZNAME:CDT
DTSTART:20260308T020000
TZOFFSETFROM:-0600
TZOFFSETTO:-0500
RDATE:20270314T020000
END:DAYLIGHT
END:VTIMEZONE
BEGIN:VEVENT
UID:dbd3595c-c5b2-4d75-abd8-c1875929db5b
DTSTAMP:20260420T230900Z
DESCRIPTION:Southern AgCenter Livestock Arena\nCheck-in begins at 8:00am\nE
 vent begins at 9:00am\n\nRegistration can be found on Judging Card\n\nThe 
 Area IV small engines contest will take place Wednesday\, March 11th at th
 e Southern Livestock Arena in Baton Rouge. Registration will start at 8:00
  am and the contest will begin at 9:00 am. THERE WERE SOME MAJOR CHANGES T
 O THE CONTEST THIS YEAR SO PLEASE MAKE YOURSELVES FAMILIAR WITH THEM.  A c
 oin toss will determine which team members compete in assembly and which c
 ompete in troubleshooting. The Parts ID portion of the contest will be uti
 lizing the parts manual from the 950 engines (new engines). Every competit
 or should bring a copy of this parts manual with them to the contest. Also
  each competitor should have a parts manual for their specific engine. Thi
 s manual will be used for trouble shooting and if it is decided that the a
 ssembly portion of the contest will have missing parts. The parts manuals 
 can be found on the Louisiana FFA website under the small engines section 
 of the CDE/LDE portion of the website. Also please bring sharpened pencils
  for the test and parts ID portions of the contest. Team members should be
  familiar with all rules concerning the contest\, especially the ones conc
 erning safety. Qualifying teams should have their troubleshooting engines 
 either shipped or brought to me no later than Thursday March 5th in order 
 to have sufficient time to bug the engines.  Motors should be free of all 
 oil and gas and have the school name and team name on the box as well as o
 n the engine itself (Ex: Walker High/ Blue Team) The motors can be shipped
  or delivered by hand to the following address.\n\nLouisiana School for th
 e Agricultural Sciences\nAttn: Ward Bordelon\n5303 Hwy. 115\nBunkie\, LA  
 71322\n
DTSTART;TZID=America/Chicago:20260311T080000
DTEND;TZID=America/Chicago:20260311T150000
LOCATION:14600 Scenic Hwy.\, Baton Rouge\, LA 70807 US
SUMMARY:Area IV Spring CDEs
END:VEVENT
END:VCALENDAR
