BEGIN:VCALENDAR
VERSION:2.0
PRODID:-//la-ffa.org//NONSGML kigkonsult.se iCalcreator 2.30.10//
CALSCALE:GREGORIAN
METHOD:PUBLISH
UID:7fd2d837-24a6-45d7-b353-7839af450853
X-WR-CALDESC:McNeese Farm\nCheck-in begins at 8:00am\nEvent begins at 9:00a
 m\n\nRegistration can be found on Judging Card
X-WR-RELCALID:2505c166a65e85a5dba7e3cadbb1ada2
X-WR-TIMEZONE:America/Chicago
BEGIN:VTIMEZONE
TZID:America/Chicago
BEGIN:STANDARD
TZNAME:CST
DTSTART:20251102T020000
TZOFFSETFROM:-0500
TZOFFSETTO:-0600
RDATE:20261101T020000
END:STANDARD
BEGIN:DAYLIGHT
TZNAME:CDT
DTSTART:20260308T020000
TZOFFSETFROM:-0600
TZOFFSETTO:-0500
RDATE:20270314T020000
END:DAYLIGHT
END:VTIMEZONE
BEGIN:VEVENT
UID:08edb347-996d-4db3-bf04-db148c033d16
DTSTAMP:20260420T232931Z
DESCRIPTION:McNeese Farm\nCheck-in begins at 8:00am\nEvent begins at 9:00am
 \n\nRegistration can be found on Judging Card
DTSTART;TZID=America/Chicago:20260312T080000
DTEND;TZID=America/Chicago:20260312T140000
LOCATION:2912 McNeese Farm Rd. \, Lake Charles\, LA 70607 US
SUMMARY:Area III Spring CDEs
END:VEVENT
END:VCALENDAR
