BEGIN:VCALENDAR
VERSION:2.0
PRODID:-//la-ffa.org//NONSGML kigkonsult.se iCalcreator 2.30.10//
CALSCALE:GREGORIAN
METHOD:PUBLISH
UID:c5de99a4-3587-47fe-b1ca-dd817713d42c
X-WR-CALDESC:Louisiana Tech\nCheck-in begins at 8:00am\nEvent begins at 9:0
 0am\n\nThe Welding contest will be held at Louisiana Delta Community Colle
 ge \n1010 James St. \nRuston\, La 71270\n\nRegistration can be found on Ju
 dging Card\n\n\n\n
X-WR-RELCALID:74e5a7ba04edcdb28ed20e968a3688aa
X-WR-TIMEZONE:America/Chicago
BEGIN:VTIMEZONE
TZID:America/Chicago
BEGIN:STANDARD
TZNAME:CST
DTSTART:20251102T020000
TZOFFSETFROM:-0500
TZOFFSETTO:-0600
RDATE:20261101T020000
END:STANDARD
BEGIN:DAYLIGHT
TZNAME:CDT
DTSTART:20260308T020000
TZOFFSETFROM:-0600
TZOFFSETTO:-0500
RDATE:20270314T020000
END:DAYLIGHT
END:VTIMEZONE
BEGIN:VEVENT
UID:a5702eea-f76b-42c6-8f24-eb7232a01d8c
DTSTAMP:20260420T230728Z
DESCRIPTION:Louisiana Tech\nCheck-in begins at 8:00am\nEvent begins at 9:00
 am\n\nThe Welding contest will be held at Louisiana Delta Community Colleg
 e \n1010 James St. \nRuston\, La 71270\n\nRegistration can be found on Jud
 ging Card\n\n\n\n
DTSTART;TZID=America/Chicago:20260313T080000
DTEND;TZID=America/Chicago:20260313T150000
LOCATION:1401 Reese Dr. \, Ruston\, LA 71270 US
SUMMARY:Area I Spring CDEs
END:VEVENT
END:VCALENDAR
