BEGIN:VCALENDAR
VERSION:2.0
PRODID:-//la-ffa.org//NONSGML kigkonsult.se iCalcreator 2.30.10//
CALSCALE:GREGORIAN
METHOD:PUBLISH
UID:b6c256e3-ee8c-4078-be39-b102bff24b95
X-WR-CALDESC:
X-WR-RELCALID:c5502a8ce281b5b6915d220151a6bbcf
X-WR-TIMEZONE:America/Chicago
BEGIN:VTIMEZONE
TZID:America/Chicago
BEGIN:STANDARD
TZNAME:CST
DTSTART:20251102T020000
TZOFFSETFROM:-0500
TZOFFSETTO:-0600
RDATE:20261101T020000
END:STANDARD
BEGIN:DAYLIGHT
TZNAME:CDT
DTSTART:20260308T020000
TZOFFSETFROM:-0600
TZOFFSETTO:-0500
RDATE:20270314T020000
END:DAYLIGHT
END:VTIMEZONE
BEGIN:VEVENT
UID:fcd34b95-f98b-455a-82ca-4d2d04c20f76
DTSTAMP:20260420T231018Z
DESCRIPTION:
DTSTART;TZID=America/Chicago:20260319T090000
DTEND;TZID=America/Chicago:20260319T120000
LOCATION:2225 N MacArthur Dr\, Alexandria\, LA 71303 US
SUMMARY:Award Interview Day
END:VEVENT
END:VCALENDAR
