BEGIN:VCALENDAR
VERSION:2.0
PRODID:-//la-ffa.org//NONSGML kigkonsult.se iCalcreator 2.30.10//
CALSCALE:GREGORIAN
METHOD:PUBLISH
UID:a5a03d52-02e7-4ff5-8f2a-5cede78718a4
X-WR-CALDESC:Majority of CDEs will take place at LSU in multiple locations 
 on campus- Detail to come\nCheck-in begins at 8:00am\nEvent begins at 9:00
 am\n\nState-qualifiers only\n\n\nWelding will take place at - BRCC-Acadian
  Campus\n3250 N Acadian Thruway\, Baton Rouge\, LA 70805
X-WR-RELCALID:742ff8f5d91b1a8aa0d379c845b725ae
X-WR-TIMEZONE:America/Chicago
BEGIN:VTIMEZONE
TZID:America/Chicago
BEGIN:STANDARD
TZNAME:CST
DTSTART:20251102T020000
TZOFFSETFROM:-0500
TZOFFSETTO:-0600
RDATE:20261101T020000
END:STANDARD
BEGIN:DAYLIGHT
TZNAME:CDT
DTSTART:20260308T020000
TZOFFSETFROM:-0600
TZOFFSETTO:-0500
RDATE:20270314T020000
END:DAYLIGHT
END:VTIMEZONE
BEGIN:VEVENT
UID:50f70629-d32f-4b6d-9f28-232d4aa01f54
DTSTAMP:20260420T230606Z
DESCRIPTION:Majority of CDEs will take place at LSU in multiple locations o
 n campus- Detail to come\nCheck-in begins at 8:00am\nEvent begins at 9:00a
 m\n\nState-qualifiers only\n\n\nWelding will take place at - BRCC-Acadian 
 Campus\n3250 N Acadian Thruway\, Baton Rouge\, LA 70805
DTSTART;TZID=America/Chicago:20260325T080000
DTEND;TZID=America/Chicago:20260325T150000
LOCATION:
SUMMARY:State Spring CDEs
END:VEVENT
END:VCALENDAR
