BEGIN:VCALENDAR
VERSION:2.0
PRODID:-//la-ffa.org//NONSGML kigkonsult.se iCalcreator 2.30.10//
CALSCALE:GREGORIAN
METHOD:PUBLISH
UID:b545a682-075f-4191-8386-b1f06a5bd6a9
X-WR-CALDESC:National Chapter Award applications are submitted electronical
 ly through AET.\n\nJunior Proficiency and Livestock/Equine Exhibition Awar
 ds are submitted through Formsite.
X-WR-RELCALID:4eb3edbd8907d1753de5ba061ec7fa35
X-WR-TIMEZONE:America/Chicago
BEGIN:VTIMEZONE
TZID:America/Chicago
BEGIN:STANDARD
TZNAME:CST
DTSTART:20251102T020000
TZOFFSETFROM:-0500
TZOFFSETTO:-0600
RDATE:20261101T020000
END:STANDARD
BEGIN:DAYLIGHT
TZNAME:CDT
DTSTART:20260308T020000
TZOFFSETFROM:-0600
TZOFFSETTO:-0500
RDATE:20270314T020000
END:DAYLIGHT
END:VTIMEZONE
BEGIN:VEVENT
UID:fd6a5aa2-7119-422b-956d-e6ffc2c6a8c5
DTSTAMP:20260421T005031Z
DESCRIPTION:National Chapter Award applications are submitted electronicall
 y through AET.\n\nJunior Proficiency and Livestock/Equine Exhibition Award
 s are submitted through Formsite.
DTSTART;TZID=America/Chicago:20260415T050000
DTEND;TZID=America/Chicago:20260415T050001
LOCATION:
SUMMARY:Deadline to Submit National Chapter Award\, Junior Proficiency Awar
 d\, and Livestock/Equine Exhibition Award Applications
END:VEVENT
END:VCALENDAR
