BEGIN:VCALENDAR
VERSION:2.0
PRODID:-//la-ffa.org//NONSGML kigkonsult.se iCalcreator 2.30.10//
CALSCALE:GREGORIAN
METHOD:PUBLISH
UID:4823f634-69d3-438c-a10d-357a1864e15c
X-WR-CALDESC:Mandatory online training for all State Officer Candidates
X-WR-RELCALID:4993888685146a9a35e65da3e36fb8da
X-WR-TIMEZONE:America/Chicago
BEGIN:VTIMEZONE
TZID:America/Chicago
BEGIN:STANDARD
TZNAME:CST
DTSTART:20251102T020000
TZOFFSETFROM:-0500
TZOFFSETTO:-0600
RDATE:20261101T020000
END:STANDARD
BEGIN:DAYLIGHT
TZNAME:CDT
DTSTART:20260308T020000
TZOFFSETFROM:-0600
TZOFFSETTO:-0500
RDATE:20270314T020000
END:DAYLIGHT
END:VTIMEZONE
BEGIN:VEVENT
UID:ca43baac-e2f4-49f1-a215-359e9669864b
DTSTAMP:20260420T213533Z
DESCRIPTION:Mandatory online training for all State Officer Candidates
DTSTART;TZID=America/Chicago:20260417T090000
DTEND;TZID=America/Chicago:20260417T130000
LOCATION:
SUMMARY:State Officer Candidate School
END:VEVENT
END:VCALENDAR
