BEGIN:VCALENDAR
VERSION:2.0
PRODID:-//la-ffa.org//NONSGML kigkonsult.se iCalcreator 2.30.10//
CALSCALE:GREGORIAN
METHOD:PUBLISH
UID:6de8d168-778a-4b2c-8af9-0f46b9fafa5c
X-WR-CALDESC:
X-WR-RELCALID:879999c7031e2905cc69830330362fee
X-WR-TIMEZONE:America/Chicago
BEGIN:VTIMEZONE
TZID:America/Chicago
BEGIN:STANDARD
TZNAME:CST
DTSTART:20251102T020000
TZOFFSETFROM:-0500
TZOFFSETTO:-0600
RDATE:20261101T020000
END:STANDARD
BEGIN:DAYLIGHT
TZNAME:CDT
DTSTART:20260308T020000
TZOFFSETFROM:-0600
TZOFFSETTO:-0500
RDATE:20270314T020000
END:DAYLIGHT
END:VTIMEZONE
BEGIN:VEVENT
UID:49ffc263-e5c5-473c-bfc6-a547ce6c4f10
DTSTAMP:20260421T025004Z
DESCRIPTION:
DTSTART;TZID=America/Chicago:20260501T050000
DTEND;TZID=America/Chicago:20260501T050001
LOCATION:
SUMMARY:Last Day to Add Members to FFA Roster\; Deadline to Submit Agriscie
 nce Fair Applications
END:VEVENT
END:VCALENDAR
