BEGIN:VCALENDAR
VERSION:2.0
PRODID:-//la-ffa.org//NONSGML kigkonsult.se iCalcreator 2.30.10//
CALSCALE:GREGORIAN
METHOD:PUBLISH
UID:20aa71f2-f9c7-428a-8ebe-ea21c70476cf
X-WR-CALDESC:Area Officer Candidate and Area Nominating Committee applicati
 ons are submitted through Formsite.
X-WR-RELCALID:c51ef343c1290733b7c32fdeff8fa43e
X-WR-TIMEZONE:America/Chicago
BEGIN:VTIMEZONE
TZID:America/Chicago
BEGIN:STANDARD
TZNAME:CST
DTSTART:20251102T020000
TZOFFSETFROM:-0500
TZOFFSETTO:-0600
RDATE:20261101T020000
END:STANDARD
BEGIN:DAYLIGHT
TZNAME:CDT
DTSTART:20260308T020000
TZOFFSETFROM:-0600
TZOFFSETTO:-0500
RDATE:20270314T020000
END:DAYLIGHT
END:VTIMEZONE
BEGIN:VEVENT
UID:42d6e6bc-2163-4b72-ae13-2feb7a484c23
DTSTAMP:20260420T232802Z
DESCRIPTION:Area Officer Candidate and Area Nominating Committee applicatio
 ns are submitted through Formsite.
DTSTART;TZID=America/Chicago:20260504T050000
DTEND;TZID=America/Chicago:20260504T050001
LOCATION:
SUMMARY:Deadline to Submit Area Officer Candidate and Area Nominating Commi
 ttee Applications
END:VEVENT
END:VCALENDAR
