BEGIN:VCALENDAR
VERSION:2.0
PRODID:-//la-ffa.org//NONSGML kigkonsult.se iCalcreator 2.30.10//
CALSCALE:GREGORIAN
METHOD:PUBLISH
UID:60a399b7-63fb-4568-aac4-1f53fc9ec1c5
X-WR-CALDESC:Natchitoches Parish Fairgrounds \nCheck-in begins at 8:00am\nE
 vent begins at 9:00am\n\nRegistration can be found on Judging Card
X-WR-RELCALID:d690d144d105bc05e6a187d353c1a7df
X-WR-TIMEZONE:America/Chicago
BEGIN:VTIMEZONE
TZID:America/Chicago
BEGIN:STANDARD
TZNAME:CST
DTSTART:20251102T020000
TZOFFSETFROM:-0500
TZOFFSETTO:-0600
RDATE:20261101T020000
END:STANDARD
BEGIN:DAYLIGHT
TZNAME:CDT
DTSTART:20260308T020000
TZOFFSETFROM:-0600
TZOFFSETTO:-0500
RDATE:20270314T020000
END:DAYLIGHT
END:VTIMEZONE
BEGIN:VEVENT
UID:17d5fa74-a51b-4397-ab6a-0e578bf07887
DTSTAMP:20260421T022839Z
DESCRIPTION:Natchitoches Parish Fairgrounds \nCheck-in begins at 8:00am\nEv
 ent begins at 9:00am\n\nRegistration can be found on Judging Card
DTSTART;TZID=America/Chicago:20260507T080000
DTEND;TZID=America/Chicago:20260507T140000
LOCATION:454 Fairgrounds Rd\, Natchitoches \, LA 71457 US
SUMMARY:Area II Carpentry CDE
END:VEVENT
END:VCALENDAR
