BEGIN:VCALENDAR
VERSION:2.0
PRODID:-//la-ffa.org//NONSGML kigkonsult.se iCalcreator 2.30.10//
CALSCALE:GREGORIAN
METHOD:PUBLISH
UID:bbe90c9a-9a4e-4a9f-b479-1b02c03398dc
X-WR-CALDESC:Mandatory online training for all Area Officer Candidates
X-WR-RELCALID:407ee66cf7a5a2ff861993e3ffc093e9
X-WR-TIMEZONE:America/Chicago
BEGIN:VTIMEZONE
TZID:America/Chicago
BEGIN:STANDARD
TZNAME:CST
DTSTART:20251102T020000
TZOFFSETFROM:-0500
TZOFFSETTO:-0600
RDATE:20261101T020000
RDATE:20271107T020000
END:STANDARD
BEGIN:DAYLIGHT
TZNAME:CDT
DTSTART:20260308T020000
TZOFFSETFROM:-0600
TZOFFSETTO:-0500
RDATE:20270314T020000
END:DAYLIGHT
END:VTIMEZONE
BEGIN:VEVENT
UID:87bb6a16-fab9-49a0-b9a3-384f7e2c4ce3
DTSTAMP:20260421T025103Z
DESCRIPTION:Mandatory online training for all Area Officer Candidates
DTSTART;TZID=America/Chicago:20260508T090000
DTEND;TZID=America/Chicago:20260508T130000
LOCATION:
SUMMARY:Area Officer Candidate School
END:VEVENT
END:VCALENDAR
