BEGIN:VCALENDAR
VERSION:2.0
PRODID:-//la-ffa.org//NONSGML kigkonsult.se iCalcreator 2.30.10//
CALSCALE:GREGORIAN
METHOD:PUBLISH
UID:824c6842-5fe8-4c26-a782-691d6abf67ad
X-WR-CALDESC:Check-in begins at 8:00am\nEvent begins at 9:00am\n\nState-qua
 lifiers only
X-WR-RELCALID:a0f7f4384b3acd6035017792858e7eda
X-WR-TIMEZONE:America/Chicago
BEGIN:VTIMEZONE
TZID:America/Chicago
BEGIN:STANDARD
TZNAME:CST
DTSTART:20251102T020000
TZOFFSETFROM:-0500
TZOFFSETTO:-0600
RDATE:20261101T020000
RDATE:20271107T020000
END:STANDARD
BEGIN:DAYLIGHT
TZNAME:CDT
DTSTART:20260308T020000
TZOFFSETFROM:-0600
TZOFFSETTO:-0500
RDATE:20270314T020000
END:DAYLIGHT
END:VTIMEZONE
BEGIN:VEVENT
UID:77e01176-027c-4082-bda3-13a6650c9c5d
DTSTAMP:20260421T022127Z
DESCRIPTION:Check-in begins at 8:00am\nEvent begins at 9:00am\n\nState-qual
 ifiers only
DTSTART;TZID=America/Chicago:20260513T080000
DTEND;TZID=America/Chicago:20260513T140000
LOCATION:Vernon Parish Fairgrounds
SUMMARY:State Carpentry CDE
END:VEVENT
END:VCALENDAR
