BEGIN:VCALENDAR
VERSION:2.0
PRODID:-//la-ffa.org//NONSGML kigkonsult.se iCalcreator 2.30.10//
CALSCALE:GREGORIAN
METHOD:PUBLISH
UID:e28b9b4f-8303-4d5d-a134-f4523d0caebe
X-WR-CALDESC:State Officer Candidates and Nominating Committee members will
  arrive by Friday\, May 29 at 5:00pm. Interview rounds will take place on 
 Saturday and Sunday. The committee will deliberate beginning at 3:00pm on 
 Monday\, June 1. State Officer elections will take place at 8:00pm on Mond
 ay\, June 1.
X-WR-RELCALID:b33667fb06fd5132bbcfdf67d42415a6
X-WR-TIMEZONE:America/Chicago
BEGIN:VTIMEZONE
TZID:America/Chicago
BEGIN:STANDARD
TZNAME:CST
DTSTART:20251102T020000
TZOFFSETFROM:-0500
TZOFFSETTO:-0600
RDATE:20261101T020000
RDATE:20271107T020000
END:STANDARD
BEGIN:DAYLIGHT
TZNAME:CDT
DTSTART:20260308T020000
TZOFFSETFROM:-0600
TZOFFSETTO:-0500
RDATE:20270314T020000
END:DAYLIGHT
END:VTIMEZONE
BEGIN:VEVENT
UID:77f671a1-9c96-43e6-b7d1-a9d2c55d0c41
DTSTAMP:20260420T223528Z
DESCRIPTION:State Officer Candidates and Nominating Committee members will 
 arrive by Friday\, May 29 at 5:00pm. Interview rounds will take place on S
 aturday and Sunday. The committee will deliberate beginning at 3:00pm on M
 onday\, June 1. State Officer elections will take place at 8:00pm on Monda
 y\, June 1.
DTSTART;TZID=America/Chicago:20260529T170000
DTEND;TZID=America/Chicago:20260601T200000
LOCATION:Hotel Bentley\, Alexandria
SUMMARY:State Nominating Committee
END:VEVENT
END:VCALENDAR
