BEGIN:VCALENDAR
VERSION:2.0
PRODID:-//la-ffa.org//NONSGML kigkonsult.se iCalcreator 2.30.10//
CALSCALE:GREGORIAN
METHOD:PUBLISH
UID:65f478c2-35b6-44c8-bf0a-2b53ad078b3f
X-WR-CALDESC:Each FFA chapter is required to attend convention with all adv
 isors and at least two members.
X-WR-RELCALID:761f7fdd160d6f88a1227edec315555c
X-WR-TIMEZONE:America/Chicago
BEGIN:VTIMEZONE
TZID:America/Chicago
BEGIN:STANDARD
TZNAME:CST
DTSTART:20251102T020000
TZOFFSETFROM:-0500
TZOFFSETTO:-0600
RDATE:20261101T020000
RDATE:20271107T020000
END:STANDARD
BEGIN:DAYLIGHT
TZNAME:CDT
DTSTART:20260308T020000
TZOFFSETFROM:-0600
TZOFFSETTO:-0500
RDATE:20270314T020000
END:DAYLIGHT
END:VTIMEZONE
BEGIN:VEVENT
UID:3e1d2d37-7e73-41f7-9488-8d56ee512bc4
DTSTAMP:20260421T041428Z
DESCRIPTION:Each FFA chapter is required to attend convention with all advi
 sors and at least two members.
DTSTART;TZID=America/Chicago:20260601T050000
DTEND;TZID=America/Chicago:20260604T050001
LOCATION:Alexandria\, LA
SUMMARY:State FFA Convention and Expo
END:VEVENT
END:VCALENDAR
