BEGIN:VCALENDAR
VERSION:2.0
PRODID:-//la-ffa.org//NONSGML kigkonsult.se iCalcreator 2.30.10//
CALSCALE:GREGORIAN
METHOD:PUBLISH
UID:56467910-4f37-4006-9c79-3b7fa960e990
X-WR-CALDESC:2026-2027 State Officer Team only
X-WR-RELCALID:c4331bf8fee6c9e7636ec9a4f64451e0
X-WR-TIMEZONE:America/Chicago
BEGIN:VTIMEZONE
TZID:America/Chicago
BEGIN:STANDARD
TZNAME:CST
DTSTART:20251102T020000
TZOFFSETFROM:-0500
TZOFFSETTO:-0600
RDATE:20261101T020000
RDATE:20271107T020000
END:STANDARD
BEGIN:DAYLIGHT
TZNAME:CDT
DTSTART:20260308T020000
TZOFFSETFROM:-0600
TZOFFSETTO:-0500
RDATE:20270314T020000
END:DAYLIGHT
END:VTIMEZONE
BEGIN:VEVENT
UID:f62c2426-aa3d-4b07-97c7-24c64b1065bc
DTSTAMP:20260421T041214Z
DESCRIPTION:2026-2027 State Officer Team only
DTSTART;TZID=America/Chicago:20260608T050000
DTEND;TZID=America/Chicago:20260612T050001
LOCATION:
SUMMARY:State Officer Basecamp
END:VEVENT
END:VCALENDAR
