BEGIN:VCALENDAR
VERSION:2.0
PRODID:-//la-ffa.org//NONSGML kigkonsult.se iCalcreator 2.30.10//
CALSCALE:GREGORIAN
METHOD:PUBLISH
UID:17cc5941-094c-43b3-99ae-b0d79e7abd4c
X-WR-CALDESC:All chapters must attend Leadership Camp with all advisors and
  at least two members.
X-WR-RELCALID:ffdc55780cd23b916f46f0bc8a79197f
X-WR-TIMEZONE:America/Chicago
BEGIN:VTIMEZONE
TZID:America/Chicago
BEGIN:STANDARD
TZNAME:CST
DTSTART:20251102T020000
TZOFFSETFROM:-0500
TZOFFSETTO:-0600
RDATE:20261101T020000
RDATE:20271107T020000
END:STANDARD
BEGIN:DAYLIGHT
TZNAME:CDT
DTSTART:20260308T020000
TZOFFSETFROM:-0600
TZOFFSETTO:-0500
RDATE:20270314T020000
END:DAYLIGHT
END:VTIMEZONE
BEGIN:VEVENT
UID:2fa6d328-47be-415c-94f3-6edc84d9f9c5
DTSTAMP:20260421T041548Z
DESCRIPTION:All chapters must attend Leadership Camp with all advisors and 
 at least two members.
DTSTART;TZID=America/Chicago:20260630T050000
DTEND;TZID=America/Chicago:20260702T050001
LOCATION:
SUMMARY:Area IV Leadership Camp
END:VEVENT
END:VCALENDAR
