BEGIN:VCALENDAR
VERSION:2.0
PRODID:-//la-ffa.org//NONSGML kigkonsult.se iCalcreator 2.30.10//
CALSCALE:GREGORIAN
METHOD:PUBLISH
UID:44807982-ba52-4ca0-a144-434e24ec7a4c
X-WR-CALDESC:All chapters must attend Leadership Camp with all advisors and
  at least two members.
X-WR-RELCALID:08a14ad54d115931c8b37db64c11eb67
X-WR-TIMEZONE:America/Chicago
BEGIN:VTIMEZONE
TZID:America/Chicago
BEGIN:STANDARD
TZNAME:CST
DTSTART:20251102T020000
TZOFFSETFROM:-0500
TZOFFSETTO:-0600
RDATE:20261101T020000
RDATE:20271107T020000
END:STANDARD
BEGIN:DAYLIGHT
TZNAME:CDT
DTSTART:20260308T020000
TZOFFSETFROM:-0600
TZOFFSETTO:-0500
RDATE:20270314T020000
END:DAYLIGHT
END:VTIMEZONE
BEGIN:VEVENT
UID:da81cd9d-d7cc-45a3-9b5b-6455436de712
DTSTAMP:20260421T060744Z
DESCRIPTION:All chapters must attend Leadership Camp with all advisors and 
 at least two members.
DTSTART;TZID=America/Chicago:20260706T050000
DTEND;TZID=America/Chicago:20260708T050001
LOCATION:
SUMMARY:Areas I and II Leadership Camp
END:VEVENT
END:VCALENDAR
