BEGIN:VCALENDAR
VERSION:2.0
PRODID:-//la-ffa.org//NONSGML kigkonsult.se iCalcreator 2.30.10//
CALSCALE:GREGORIAN
METHOD:PUBLISH
UID:865f0d93-028a-4a9f-a571-f4a0c462c456
X-WR-CALDESC:2025-2026 State Officer Team only
X-WR-RELCALID:e03c6390e29932d0a24feda3614293de
X-WR-TIMEZONE:America/Chicago
BEGIN:VTIMEZONE
TZID:America/Chicago
BEGIN:STANDARD
TZNAME:CST
DTSTART:20251102T020000
TZOFFSETFROM:-0500
TZOFFSETTO:-0600
RDATE:20261101T020000
RDATE:20271107T020000
END:STANDARD
BEGIN:DAYLIGHT
TZNAME:CDT
DTSTART:20260308T020000
TZOFFSETFROM:-0600
TZOFFSETTO:-0500
RDATE:20270314T020000
END:DAYLIGHT
END:VTIMEZONE
BEGIN:VEVENT
UID:6052d55e-ccb9-43e1-a9e1-0a107d777c58
DTSTAMP:20260421T060216Z
DESCRIPTION:2025-2026 State Officer Team only
DTSTART;TZID=America/Chicago:20260713T050000
DTEND;TZID=America/Chicago:20260717T050001
LOCATION:Washington\, DC
SUMMARY:State Officer Summit
END:VEVENT
END:VCALENDAR
